BEGIN:VCALENDAR
VERSION:2.0
PRODID:-//ChamberMaster//Event Calendar 2.0//EN
METHOD:PUBLISH
X-PUBLISHED-TTL:P1H
REFRESH-INTERVAL:P1H
CALSCALE:GREGORIAN
BEGIN:VTIMEZONE
TZID:America/New_York
BEGIN:DAYLIGHT
RRULE:FREQ=YEARLY;BYMONTH=3;BYDAY=2SU
DTSTART:20070101T000000
TZOFFSETFROM:-0500
TZOFFSETTO:-0400
TZNAME:Eastern Daylight Time
END:DAYLIGHT
BEGIN:STANDARD
RRULE:FREQ=YEARLY;BYMONTH=11;BYDAY=1SU
DTSTART:20070101T000000
TZOFFSETFROM:-0400
TZOFFSETTO:-0500
TZNAME:Eastern Standard Time
END:STANDARD
END:VTIMEZONE
BEGIN:VEVENT
DTSTART;TZID=America/New_York:20260525T090000
DTEND;TZID=America/New_York:20260525T130000
X-MICROSOFT-CDO-ALLDAYEVENT:FALSE
SUMMARY:Learning Series | The ASPIRE Advantage: Elevating Leaders\, Teams\, and Results
DESCRIPTION:Struggling to lead people while growing your business?  The ASPIRE Advantage: Elevating Leaders\, Teams\, and Results is a hands-on leadership workshop designed to help you gain clarity\, strengthen your team\, and implement with confidence using the ASPIRE Framework. Hosted at the Markham Board of Trade\, this in-person session will take place on May 25\, 2026 from 9:00 AM to 1:00 PM at 3600 Steeles Ave E.This is not a passive seminar. It's a working session where you will actively engage\, reflect\, and apply what you learn to your own business challenges. Gain clarity on your leadership approachLearn how to adapt strategy in a changing environmentStrengthen how you lead and influence othersBuild resilience as a leaderImprove your ability to execute consistentlyEvent DetailsDate: May 25\, 2026Time: 9:00 AM   1:00 PMLocation: Markham Board of Trade\, 3600 Steeles Ave EFee: Members: $49 | Non-Members: $59What You'll ExperienceGuided group discussionsInteractive exercisesPeer learning and shared insightsPractical application of the ASPIRE FrameworkWhat You'll ReceiveA workshop workbook for notes and exercisesPractical tools and frameworksActionable next steps to apply immediatelyWho Should AttendBusiness owners and entrepreneursManagers and team leadersProfessionals responsible for people and performanceAbout the SpeakerAnne Bloom is a leadership coach and advisor who helps individuals and organizations strengthen leadership effectiveness\, align teams\, and drive results through practical\, people-focused strategies.RegistrationSeats are limited. Reserve your spot early and come ready to engage\, reflect\, and apply practical leadership tools to your business.\nBring your leadership challenges.
X-ALT-DESC;FMTTYPE=text/html:<!DOCTYPE html><html><head><title></title></head><body aria-disabled="false"><p><span data-olk-copy-source="MessageBody" style="font-size: 18px\;">&nbsp\;<strong fr-original-style="font-weight: 700\;" style="font-weight: 700\;"><span style="color: rgb(41\, 105\, 176)\;">Struggling to lead people while growing your business?&nbsp\;</span></strong>&nbsp\;</span></p><p><strong fr-original-style="font-weight: 700\;" style="font-weight: 700\;">The ASPIRE Advantage: Elevating Leaders\, Teams\, and Results</strong> is a hands-on leadership workshop designed to help you gain clarity\, strengthen your team\, and implement with confidence using the ASPIRE Framework. Hosted at the <strong fr-original-style="font-weight: 700\;" style="font-weight: 700\;">Markham Board of Trade</strong>\, this in-person session will take place on <strong fr-original-style="font-weight: 700\;" style="font-weight: 700\;">May 25\, 2026</strong> from <strong fr-original-style="font-weight: 700\;" style="font-weight: 700\;">9:00 AM</strong> to <strong fr-original-style="font-weight: 700\;" style="font-weight: 700\;">1:00 PM</strong> at <strong fr-original-style="font-weight: 700\;" style="font-weight: 700\;">3600 Steeles Ave E</strong>.</p><p><strong fr-original-style="font-weight: 700\;" style="font-weight: 700\;"><span style="color: rgb(41\, 105\, 176)\;">This is not a passive seminar. It&rsquo\;s a working session where you will actively engage\, reflect\, and apply what you learn to your own business challenges.&nbsp\;</span></strong></p><ul fr-original-style="" style="list-style-position: inside\;"><li>Gain clarity on your leadership approach</li><li>Learn how to adapt strategy in a changing environment</li><li>Strengthen how you lead and influence others</li><li>Build resilience as a leader</li><li>Improve your ability to execute consistently</li></ul><p><strong fr-original-style="font-weight: 700\;" style="font-weight: 700\;"><span style="color: rgb(41\, 105\, 176)\;">Event Details</span></strong></p><ul fr-original-style="list-style-position: inside\;" style="list-style-position: inside\;"><li><strong fr-original-style="">Date:</strong> May 25\, 2026</li><li><strong fr-original-style="">Time:</strong> 9:00 AM &ndash\; 1:00 PM</li><li><strong fr-original-style="">Location:</strong> Markham Board of Trade\, 3600 Steeles Ave E</li><li><strong fr-original-style="">Fee:</strong> Members: $49 | Non-Members: $59</li></ul><p><strong fr-original-style="font-weight: 700\;" style="font-weight: 700\;"><span style="color: rgb(41\, 105\, 176)\;">What You&rsquo\;ll Experience</span></strong></p><ul fr-original-style="list-style-position: inside\;" style="list-style-position: inside\;"><li>Guided group discussions</li><li>Interactive exercises</li><li>Peer learning and shared insights</li><li>Practical application of the ASPIRE Framework</li></ul><p><strong fr-original-style="font-weight: 700\;" style="font-weight: 700\;"><span style="color: rgb(41\, 105\, 176)\;">What You&rsquo\;ll Receive</span></strong></p><ul fr-original-style="list-style-position: inside\;" style="list-style-position: inside\;"><li>A workshop workbook for notes and exercises</li><li>Practical tools and frameworks</li><li>Actionable next steps to apply immediately</li></ul><p><strong fr-original-style="font-weight: 700\;" style="font-weight: 700\;"><span style="color: rgb(41\, 105\, 176)\;">Who Should Attend</span></strong></p><ul fr-original-style="list-style-position: inside\;" style="list-style-position: inside\;"><li>Business owners and entrepreneurs</li><li>Managers and team leaders</li><li>Professionals responsible for people and performance</li></ul><p><strong fr-original-style="font-weight: 700\;" style="font-weight: 700\;"><span style="color: rgb(41\, 105\, 176)\;">About the Speaker</span></strong></p><p><strong fr-original-style="font-weight: 700\;" style="font-weight: 700\;">Anne Bloom</strong> is a leadership coach and advisor who helps individuals and organizations strengthen leadership effectiveness\, align teams\, and drive results through practical\, people-focused strategies.</p><p><strong fr-original-style="font-weight: 700\;" style="font-weight: 700\;"><span style="color: rgb(41\, 105\, 176)\;">Registration</span></strong></p><p>Seats are limited. Reserve your spot early and come ready to engage\, reflect\, and apply practical leadership tools to your business.<br><strong fr-original-style="">Bring your leadership challenges.</strong></p></body></html>
LOCATION:3600 Steeles Avenue East Markham ON L3R 9Z7
UID:e.1675.1448075
SEQUENCE:3
DTSTAMP:20260425T172130Z
URL:https://member.markhamboard.com/eventcalendar/Details/learning-series-the-aspire-advantage-elevating-leaders-teams-and-results-1715079?sourceTypeId=Hub
END:VEVENT
END:VCALENDAR
